BEGIN:VCALENDAR
VERSION:2.0
PRODID:-//Züschen - ECPv6.15.11//NONSGML v1.0//EN
CALSCALE:GREGORIAN
METHOD:PUBLISH
X-WR-CALNAME:Züschen
X-ORIGINAL-URL:https://zueschen.de
X-WR-CALDESC:Veranstaltungen für Züschen
REFRESH-INTERVAL;VALUE=DURATION:PT1H
X-Robots-Tag:noindex
X-PUBLISHED-TTL:PT1H
BEGIN:VTIMEZONE
TZID:Europe/Berlin
BEGIN:DAYLIGHT
TZOFFSETFROM:+0100
TZOFFSETTO:+0200
TZNAME:CEST
DTSTART:20250330T010000
END:DAYLIGHT
BEGIN:STANDARD
TZOFFSETFROM:+0200
TZOFFSETTO:+0100
TZNAME:CET
DTSTART:20251026T010000
END:STANDARD
BEGIN:DAYLIGHT
TZOFFSETFROM:+0100
TZOFFSETTO:+0200
TZNAME:CEST
DTSTART:20260329T010000
END:DAYLIGHT
BEGIN:STANDARD
TZOFFSETFROM:+0200
TZOFFSETTO:+0100
TZNAME:CET
DTSTART:20261025T010000
END:STANDARD
BEGIN:DAYLIGHT
TZOFFSETFROM:+0100
TZOFFSETTO:+0200
TZNAME:CEST
DTSTART:20270328T010000
END:DAYLIGHT
BEGIN:STANDARD
TZOFFSETFROM:+0200
TZOFFSETTO:+0100
TZNAME:CET
DTSTART:20271031T010000
END:STANDARD
END:VTIMEZONE
BEGIN:VEVENT
DTSTART;TZID=Europe/Berlin:20260721T133000
DTEND;TZID=Europe/Berlin:20260721T150000
DTSTAMP:20260421T035658
CREATED:20260109T141649Z
LAST-MODIFIED:20260109T141649Z
UID:6045-1784640600-1784646000@zueschen.de
SUMMARY:Wir bauen ein Knatterboot - Kinderveranstaltung in Borgscheune
DESCRIPTION:Foto: https://www.zukunftswerkstatt-buchholz.de/wp-content/uploads/2023/06/Knatterboot-02.jpg \nKinderveranstaltung zu Beginn der Sommerferien. \nMit der fertigen Booten geht’s zur Regatta auf die Bullenwiese. \nWeitere Informationen folgen. \nBeginn 13:30 Uhr.
URL:https://zueschen.de/veranstaltung/wir-bauen-ein-knatterboot-kinderveranstaltung-in-borgscheune/
LOCATION:Borgs Scheune\, Mollseifener Straße 17\, Winterberg\, NRW\, 59955
ORGANIZER;CN="F%C3%B6rderverein Borgs Scheune":MAILTO:info@borgs-scheune.de
END:VEVENT
END:VCALENDAR