BEGIN:VCALENDAR
VERSION:2.0
PRODID:-//Züschen - ECPv6.15.11//NONSGML v1.0//EN
CALSCALE:GREGORIAN
METHOD:PUBLISH
X-ORIGINAL-URL:https://zueschen.de
X-WR-CALDESC:Veranstaltungen für Züschen
REFRESH-INTERVAL;VALUE=DURATION:PT1H
X-Robots-Tag:noindex
X-PUBLISHED-TTL:PT1H
BEGIN:VTIMEZONE
TZID:Europe/Berlin
BEGIN:DAYLIGHT
TZOFFSETFROM:+0100
TZOFFSETTO:+0200
TZNAME:CEST
DTSTART:20250330T010000
END:DAYLIGHT
BEGIN:STANDARD
TZOFFSETFROM:+0200
TZOFFSETTO:+0100
TZNAME:CET
DTSTART:20251026T010000
END:STANDARD
BEGIN:DAYLIGHT
TZOFFSETFROM:+0100
TZOFFSETTO:+0200
TZNAME:CEST
DTSTART:20260329T010000
END:DAYLIGHT
BEGIN:STANDARD
TZOFFSETFROM:+0200
TZOFFSETTO:+0100
TZNAME:CET
DTSTART:20261025T010000
END:STANDARD
BEGIN:DAYLIGHT
TZOFFSETFROM:+0100
TZOFFSETTO:+0200
TZNAME:CEST
DTSTART:20270328T010000
END:DAYLIGHT
BEGIN:STANDARD
TZOFFSETFROM:+0200
TZOFFSETTO:+0100
TZNAME:CET
DTSTART:20271031T010000
END:STANDARD
END:VTIMEZONE
BEGIN:VEVENT
DTSTART;TZID=Europe/Berlin:20261024T193000
DTEND;TZID=Europe/Berlin:20261024T230000
DTSTAMP:20260421T090748
CREATED:20260316T104836Z
LAST-MODIFIED:20260316T104836Z
UID:6134-1792870200-1792882800@zueschen.de
SUMMARY:Traditionelles Magenessen für die Mitglieder der SGV-Abteilung in der Schützenhalle Züschen
DESCRIPTION:Beginn 19:30 Uhr. \nEinladung folgt.. \nAnmeldung erforderlich.
URL:https://zueschen.de/veranstaltung/traditionelles-magenessen-fuer-die-mitglieder-der-sgv-abteilung-in-der-schuetzenhalle-zueschen/
LOCATION:Schützenhalle Züschen\, An der Knüle 8\, Winterberg\, NRW\, 59955\, Deutschland
ORGANIZER;CN="SGV":MAILTO:vorstand@sgv-zueschen.de
END:VEVENT
END:VCALENDAR