BEGIN:VCALENDAR
VERSION:2.0
PRODID:-//Züschen - ECPv6.15.11//NONSGML v1.0//EN
CALSCALE:GREGORIAN
METHOD:PUBLISH
X-WR-CALNAME:Züschen
X-ORIGINAL-URL:https://zueschen.de
X-WR-CALDESC:Veranstaltungen für Züschen
REFRESH-INTERVAL;VALUE=DURATION:PT1H
X-Robots-Tag:noindex
X-PUBLISHED-TTL:PT1H
BEGIN:VTIMEZONE
TZID:Europe/Berlin
BEGIN:DAYLIGHT
TZOFFSETFROM:+0100
TZOFFSETTO:+0200
TZNAME:CEST
DTSTART:20250330T010000
END:DAYLIGHT
BEGIN:STANDARD
TZOFFSETFROM:+0200
TZOFFSETTO:+0100
TZNAME:CET
DTSTART:20251026T010000
END:STANDARD
BEGIN:DAYLIGHT
TZOFFSETFROM:+0100
TZOFFSETTO:+0200
TZNAME:CEST
DTSTART:20260329T010000
END:DAYLIGHT
BEGIN:STANDARD
TZOFFSETFROM:+0200
TZOFFSETTO:+0100
TZNAME:CET
DTSTART:20261025T010000
END:STANDARD
BEGIN:DAYLIGHT
TZOFFSETFROM:+0100
TZOFFSETTO:+0200
TZNAME:CEST
DTSTART:20270328T010000
END:DAYLIGHT
BEGIN:STANDARD
TZOFFSETFROM:+0200
TZOFFSETTO:+0100
TZNAME:CET
DTSTART:20271031T010000
END:STANDARD
END:VTIMEZONE
BEGIN:VEVENT
DTSTART;VALUE=DATE:20260306
DTEND;VALUE=DATE:20260307
DTSTAMP:20260420T171818
CREATED:20260306T132617Z
LAST-MODIFIED:20260306T132617Z
UID:6098-1772755200-1772841599@zueschen.de
SUMMARY:Klön Frühstück mit den Züscher Landfrauen am 17. März 2026
DESCRIPTION:
URL:https://zueschen.de/veranstaltung/kloen-fruehstueck-mit-den-zuescher-landfrauen-am-17-maerz-2026/
LOCATION:NRW
END:VEVENT
BEGIN:VEVENT
DTSTART;TZID=Europe/Berlin:20260314T193000
DTEND;TZID=Europe/Berlin:20260314T230000
DTSTAMP:20260420T171818
CREATED:20260109T135301Z
LAST-MODIFIED:20260109T135301Z
UID:6033-1773516600-1773529200@zueschen.de
SUMMARY:Lesung von Hermann J. Mürmann in Borgs Scheune
DESCRIPTION:Der Autor\, dessen Mutter 1914 in Züschen geboren wurde\, liest aus seinem spirituellen Buch „Berührt sein\, eine Quelle für Frieden und Liebe“ und seinem Roman „Das Mädchen\, das aus der Stille kam“\, das die Geschichte einer Flucht eines gehörlosen Mädchens über das Mittelmeer erzählt. \nTickets sind im Vorverkauf in der Tourist-Info Züschen oder online im Buchungsportal der Winterberg Touristik GmbH erhältlich. \nVK 12€/AK 14€. Freie Sitzplatzwahl. \nBeginn 19:30 Uhr\, Einlass 19:00 Uhr.
URL:https://zueschen.de/veranstaltung/lesung-von-hermann-j-muermann-in-borgs-scheune/
LOCATION:Borgs Scheune\, Mollseifener Straße 17\, Winterberg\, NRW\, 59955
ORGANIZER;CN="F%C3%B6rderverein Borgs Scheune":MAILTO:info@borgs-scheune.de
END:VEVENT
BEGIN:VEVENT
DTSTART;TZID=Europe/Berlin:20260325T190000
DTEND;TZID=Europe/Berlin:20260325T210000
DTSTAMP:20260420T171818
CREATED:20260109T140308Z
LAST-MODIFIED:20260109T140308Z
UID:6040-1774465200-1774472400@zueschen.de
SUMMARY:Mitgliederversammlung des Fördervereins für Kultur-\, Denkmalpflege und Naturschutz
DESCRIPTION:Der Vorstand des Fördervereins für Kultur-\, Denkmalpflege und Naturschutz in der Gemeinde Züschen e.V. lädt alle Vereinsmitglieder und Interessierte zu seiner Jahreshauptversammlung ein. \nBeginn ist um 19:00 Uhr in Borgs Scheune.
URL:https://zueschen.de/veranstaltung/mitgliederversammlung-des-foerdervereins-fuer-kultur-denkmalpflege-und-naturschutz/
LOCATION:Borgs Scheune\, Mollseifener Straße 17\, Winterberg\, NRW\, 59955
ORGANIZER;CN="F%C3%B6rderverein Borgs Scheune":MAILTO:info@borgs-scheune.de
END:VEVENT
END:VCALENDAR