BEGIN:VCALENDAR
VERSION:2.0
PRODID:-//Züschen - ECPv6.15.11//NONSGML v1.0//EN
CALSCALE:GREGORIAN
METHOD:PUBLISH
X-WR-CALNAME:Züschen
X-ORIGINAL-URL:https://zueschen.de
X-WR-CALDESC:Veranstaltungen für Züschen
REFRESH-INTERVAL;VALUE=DURATION:PT1H
X-Robots-Tag:noindex
X-PUBLISHED-TTL:PT1H
BEGIN:VTIMEZONE
TZID:Europe/Berlin
BEGIN:DAYLIGHT
TZOFFSETFROM:+0100
TZOFFSETTO:+0200
TZNAME:CEST
DTSTART:20250330T010000
END:DAYLIGHT
BEGIN:STANDARD
TZOFFSETFROM:+0200
TZOFFSETTO:+0100
TZNAME:CET
DTSTART:20251026T010000
END:STANDARD
BEGIN:DAYLIGHT
TZOFFSETFROM:+0100
TZOFFSETTO:+0200
TZNAME:CEST
DTSTART:20260329T010000
END:DAYLIGHT
BEGIN:STANDARD
TZOFFSETFROM:+0200
TZOFFSETTO:+0100
TZNAME:CET
DTSTART:20261025T010000
END:STANDARD
BEGIN:DAYLIGHT
TZOFFSETFROM:+0100
TZOFFSETTO:+0200
TZNAME:CEST
DTSTART:20270328T010000
END:DAYLIGHT
BEGIN:STANDARD
TZOFFSETFROM:+0200
TZOFFSETTO:+0100
TZNAME:CET
DTSTART:20271031T010000
END:STANDARD
END:VTIMEZONE
BEGIN:VEVENT
DTSTART;TZID=Europe/Berlin:20260509T193000
DTEND;TZID=Europe/Berlin:20260509T230000
DTSTAMP:20260420T171741
CREATED:20260109T141104Z
LAST-MODIFIED:20260109T141104Z
UID:6042-1778355000-1778367600@zueschen.de
SUMMARY:Die Rollenden Steinfrüchte zapfen an: Fruchtiger Folkrock mit saftigem Sound
DESCRIPTION:Die rollenden Steinfrüchte/Foto: Band \nMit einer fetten Tankerladung musikalischer Leckerbissen aus sechzig Jahren Folk und Rock kommen Die Rollenden Steinfrüchte auf ihrem Trip über die Obstwiesen der Republik in Borgs Scheune nach Züschen\, wo sie allen Fans klassischer Rock- und Folk-Musik einen ordentlichen Schluck aus dem großen Lieder-Fass einschenken. \nDie Rollenden Steinfrüchte – mit allen Säften gewaschen \nRi Na-Robben – Piano\, Harmonika\, Cajon\, Gesang. Tastet\, tutet\, trommelt. Trifft. \nWolf Robben – Gitarre\, Gesang. Schlägt die Gitarrensaiten\, sonst niemanden. D’accord. \nFreddie B. – Bass\, Gesang. Zapft den Bass. Allseits hart besaitet. \n  \nTickets sind im Vorverkauf in der Tourist-Info Züschen oder online im Buchungsportal der Winterberg Touristik GmbH erhältlich. \nVK 17€/AK 19€. Freie Sitzplatzwahl. \nBeginn 19:30 Uhr\, Einlass 19:00 Uhr.
URL:https://zueschen.de/veranstaltung/die-rollenden-steinfruechte-zapfen-an-fruchtiger-folkrock-mit-saftigem-sound/
LOCATION:Borgs Scheune\, Mollseifener Straße 17\, Winterberg\, NRW\, 59955
ORGANIZER;CN="F%C3%B6rderverein Borgs Scheune":MAILTO:info@borgs-scheune.de
END:VEVENT
BEGIN:VEVENT
DTSTART;TZID=Europe/Berlin:20260521T183000
DTEND;TZID=Europe/Berlin:20260521T203000
DTSTAMP:20260420T171741
CREATED:20260316T095916Z
LAST-MODIFIED:20260316T095916Z
UID:6104-1779388200-1779395400@zueschen.de
SUMMARY:Feierabendwanderung mit der SGV-Abteilung
DESCRIPTION:Treffpunkt um 18:30 Uhr auf dem Parkplatz der katholischen Kirche St. Johannes Baptist in Züschen. \nDauer ca. 1\,5 – 2 Stunden.
URL:https://zueschen.de/veranstaltung/feierabendwanderung-mit-der-sgv-abteilung/
LOCATION:NRW
ORGANIZER;CN="SGV":MAILTO:vorstand@sgv-zueschen.de
END:VEVENT
BEGIN:VEVENT
DTSTART;VALUE=DATE:20260531
DTEND;VALUE=DATE:20260601
DTSTAMP:20260420T171741
CREATED:20260316T100112Z
LAST-MODIFIED:20260316T100112Z
UID:6106-1780185600-1780271999@zueschen.de
SUMMARY:Wanderung auf dem Butzmühlenweg mit der SGV-Abteilung
DESCRIPTION:Treffen um 9:30 Uhr am Wasserrad in Züschen. Fahrgemeinschaften nach Schreufa können gebildet werden. \nRucksackverpflegung angedacht. Eine spätere Einkehr ist geplant. \nLänge ca. 13\,5 km.
URL:https://zueschen.de/veranstaltung/wanderung-auf-dem-butzmuehlenweg-mit-der-sgv-abteilung/
LOCATION:NRW
ORGANIZER;CN="SGV":MAILTO:vorstand@sgv-zueschen.de
END:VEVENT
END:VCALENDAR