BEGIN:VCALENDAR
VERSION:2.0
PRODID:-//Züschen - ECPv6.15.11//NONSGML v1.0//EN
CALSCALE:GREGORIAN
METHOD:PUBLISH
X-WR-CALNAME:Züschen
X-ORIGINAL-URL:https://zueschen.de
X-WR-CALDESC:Veranstaltungen für Züschen
REFRESH-INTERVAL;VALUE=DURATION:PT1H
X-Robots-Tag:noindex
X-PUBLISHED-TTL:PT1H
BEGIN:VTIMEZONE
TZID:Europe/Berlin
BEGIN:DAYLIGHT
TZOFFSETFROM:+0100
TZOFFSETTO:+0200
TZNAME:CEST
DTSTART:20250330T010000
END:DAYLIGHT
BEGIN:STANDARD
TZOFFSETFROM:+0200
TZOFFSETTO:+0100
TZNAME:CET
DTSTART:20251026T010000
END:STANDARD
BEGIN:DAYLIGHT
TZOFFSETFROM:+0100
TZOFFSETTO:+0200
TZNAME:CEST
DTSTART:20260329T010000
END:DAYLIGHT
BEGIN:STANDARD
TZOFFSETFROM:+0200
TZOFFSETTO:+0100
TZNAME:CET
DTSTART:20261025T010000
END:STANDARD
BEGIN:DAYLIGHT
TZOFFSETFROM:+0100
TZOFFSETTO:+0200
TZNAME:CEST
DTSTART:20270328T010000
END:DAYLIGHT
BEGIN:STANDARD
TZOFFSETFROM:+0200
TZOFFSETTO:+0100
TZNAME:CET
DTSTART:20271031T010000
END:STANDARD
END:VTIMEZONE
BEGIN:VEVENT
DTSTART;VALUE=DATE:20260802
DTEND;VALUE=DATE:20260803
DTSTAMP:20260421T035701
CREATED:20260316T101956Z
LAST-MODIFIED:20260316T101956Z
UID:6118-1785628800-1785715199@zueschen.de
SUMMARY:Wanderung über den historischen Dorfpfad in Elkeringhausen mit der SGV-Abteilung
DESCRIPTION:Treffen ist um 13:00 Uhr am Wasserrad in Züschen. Fahrgemeinschaften können gebildet werden. \nLänge ca. 8 km. \nEin gemeinsamer Abschluss in Elkeringhausen ist geplant.
URL:https://zueschen.de/veranstaltung/wanderung-ueber-den-historischen-dorfpfad-in-elkeringhausen-mit-der-sgv-abteilung/
LOCATION:NRW
ORGANIZER;CN="SGV":MAILTO:vorstand@sgv-zueschen.de
END:VEVENT
BEGIN:VEVENT
DTSTART;TZID=Europe/Berlin:20260820T183000
DTEND;TZID=Europe/Berlin:20260820T203000
DTSTAMP:20260421T035701
CREATED:20260316T102427Z
LAST-MODIFIED:20260316T102427Z
UID:6120-1787250600-1787257800@zueschen.de
SUMMARY:Feierabendwanderung mit der SGV-Abteilung
DESCRIPTION:Treffpunkt um 18:30 Uhr auf dem Parkplatz der katholischen Kirche St. Johannes Baptist in Züschen. \nDauer ca. 1\,5 – 2h.
URL:https://zueschen.de/veranstaltung/feierabendwanderung-mit-der-sgv-abteilung-4/
LOCATION:NRW
ORGANIZER;CN="SGV":MAILTO:vorstand@sgv-zueschen.de
END:VEVENT
BEGIN:VEVENT
DTSTART;VALUE=DATE:20260823
DTEND;VALUE=DATE:20260824
DTSTAMP:20260421T035701
CREATED:20260316T102653Z
LAST-MODIFIED:20260316T102653Z
UID:6122-1787443200-1787529599@zueschen.de
SUMMARY:Wanderung Hoher Knochen mit der SGV-Abteilung
DESCRIPTION:Treffen ist um 10:00 Uhr am Wasserrad in Züschen. Fahrgemeinschaften können gebildet werden. \nRucksackverpflegung erwünscht. Eine spätere Einkehr ist geplant. \nLänge ca. 10km.
URL:https://zueschen.de/veranstaltung/wanderung-hoher-knochen-mit-der-sgv-abteilung/
LOCATION:NRW
ORGANIZER;CN="SGV":MAILTO:vorstand@sgv-zueschen.de
END:VEVENT
BEGIN:VEVENT
DTSTART;VALUE=DATE:20260828
DTEND;VALUE=DATE:20260829
DTSTAMP:20260421T035701
CREATED:20260316T103136Z
LAST-MODIFIED:20260316T103136Z
UID:6124-1787875200-1787961599@zueschen.de
SUMMARY:Familienwanderung mit der SGV-Abteilung\, Fledermauswanderung mit Mondfinsternis
DESCRIPTION:Treffen um 20:30 Uhr am Wasserrad in Züschen. \nLänge ca. 3km.
URL:https://zueschen.de/veranstaltung/familienwanderung-mit-der-sgv-abteilung-fledermauswanderung-mit-mondfinsternis/
LOCATION:NRW
ORGANIZER;CN="SGV":MAILTO:vorstand@sgv-zueschen.de
END:VEVENT
END:VCALENDAR