BEGIN:VCALENDAR
VERSION:2.0
PRODID:-//Züschen - ECPv6.15.11//NONSGML v1.0//EN
CALSCALE:GREGORIAN
METHOD:PUBLISH
X-ORIGINAL-URL:https://zueschen.de
X-WR-CALDESC:Veranstaltungen für Züschen
REFRESH-INTERVAL;VALUE=DURATION:PT1H
X-Robots-Tag:noindex
X-PUBLISHED-TTL:PT1H
BEGIN:VTIMEZONE
TZID:Europe/Berlin
BEGIN:DAYLIGHT
TZOFFSETFROM:+0100
TZOFFSETTO:+0200
TZNAME:CEST
DTSTART:20250330T010000
END:DAYLIGHT
BEGIN:STANDARD
TZOFFSETFROM:+0200
TZOFFSETTO:+0100
TZNAME:CET
DTSTART:20251026T010000
END:STANDARD
BEGIN:DAYLIGHT
TZOFFSETFROM:+0100
TZOFFSETTO:+0200
TZNAME:CEST
DTSTART:20260329T010000
END:DAYLIGHT
BEGIN:STANDARD
TZOFFSETFROM:+0200
TZOFFSETTO:+0100
TZNAME:CET
DTSTART:20261025T010000
END:STANDARD
BEGIN:DAYLIGHT
TZOFFSETFROM:+0100
TZOFFSETTO:+0200
TZNAME:CEST
DTSTART:20270328T010000
END:DAYLIGHT
BEGIN:STANDARD
TZOFFSETFROM:+0200
TZOFFSETTO:+0100
TZNAME:CET
DTSTART:20271031T010000
END:STANDARD
END:VTIMEZONE
BEGIN:VEVENT
DTSTART;VALUE=DATE:20260912
DTEND;VALUE=DATE:20260920
DTSTAMP:20260421T055721
CREATED:20260316T103527Z
LAST-MODIFIED:20260316T103527Z
UID:6128-1789171200-1789862399@zueschen.de
SUMMARY:Wanderwoche der SGV-Abteilung vom 12. bis 19.09.2026
DESCRIPTION:Bei Interesse bitte beim Leitungsteam melden.
URL:https://zueschen.de/veranstaltung/wanderwoche-der-sgv-abteilung-vom-12-bis-19-09-2026/
LOCATION:NRW
ORGANIZER;CN="SGV":MAILTO:vorstand@sgv-zueschen.de
END:VEVENT
BEGIN:VEVENT
DTSTART;VALUE=DATE:20260913
DTEND;VALUE=DATE:20260914
DTSTAMP:20260421T055721
CREATED:20260316T103326Z
LAST-MODIFIED:20260316T103326Z
UID:6126-1789257600-1789343999@zueschen.de
SUMMARY:Wanderung Liesetal Aussicht in die Vergangenheit mit der SGV-Abteilung
DESCRIPTION:Treffen um 10:30 Uhr am Wasserrad in Züschen. \nRucksackverpflegung erwünscht. \nLänge ca. 12km.
URL:https://zueschen.de/veranstaltung/wanderung-liesetal-aussicht-in-die-vergangenheit-mit-der-sgv-abteilung/
LOCATION:NRW
ORGANIZER;CN="SGV":MAILTO:vorstand@sgv-zueschen.de
END:VEVENT
BEGIN:VEVENT
DTSTART;TZID=Europe/Berlin:20260917T183000
DTEND;TZID=Europe/Berlin:20260917T203000
DTSTAMP:20260421T055721
CREATED:20260316T103712Z
LAST-MODIFIED:20260316T103712Z
UID:6130-1789669800-1789677000@zueschen.de
SUMMARY:Feierabendwanderung mit der SGV-Abteilung
DESCRIPTION:Treffpunkt um 18:30 Uhr auf dem Parkplatz der katholischen Kirche St. Johannes Baptist in Züschen. \nDauer ca. 1\,5 – 2h.
URL:https://zueschen.de/veranstaltung/feierabendwanderung-mit-der-sgv-abteilung-5/
LOCATION:NRW
ORGANIZER;CN="SGV":MAILTO:vorstand@sgv-zueschen.de
END:VEVENT
END:VCALENDAR