BEGIN:VCALENDAR
VERSION:2.0
PRODID:-//Züschen - ECPv6.15.11//NONSGML v1.0//EN
CALSCALE:GREGORIAN
METHOD:PUBLISH
X-WR-CALNAME:Züschen
X-ORIGINAL-URL:https://zueschen.de
X-WR-CALDESC:Veranstaltungen für Züschen
REFRESH-INTERVAL;VALUE=DURATION:PT1H
X-Robots-Tag:noindex
X-PUBLISHED-TTL:PT1H
BEGIN:VTIMEZONE
TZID:Europe/Berlin
BEGIN:DAYLIGHT
TZOFFSETFROM:+0100
TZOFFSETTO:+0200
TZNAME:CEST
DTSTART:20250330T010000
END:DAYLIGHT
BEGIN:STANDARD
TZOFFSETFROM:+0200
TZOFFSETTO:+0100
TZNAME:CET
DTSTART:20251026T010000
END:STANDARD
BEGIN:DAYLIGHT
TZOFFSETFROM:+0100
TZOFFSETTO:+0200
TZNAME:CEST
DTSTART:20260329T010000
END:DAYLIGHT
BEGIN:STANDARD
TZOFFSETFROM:+0200
TZOFFSETTO:+0100
TZNAME:CET
DTSTART:20261025T010000
END:STANDARD
BEGIN:DAYLIGHT
TZOFFSETFROM:+0100
TZOFFSETTO:+0200
TZNAME:CEST
DTSTART:20270328T010000
END:DAYLIGHT
BEGIN:STANDARD
TZOFFSETFROM:+0200
TZOFFSETTO:+0100
TZNAME:CET
DTSTART:20271031T010000
END:STANDARD
END:VTIMEZONE
BEGIN:VEVENT
DTSTART;TZID=Europe/Berlin:20261230T170000
DTEND;TZID=Europe/Berlin:20261230T220000
DTSTAMP:20260421T105857
CREATED:20260316T105307Z
LAST-MODIFIED:20260316T105307Z
UID:6138-1798650000-1798668000@zueschen.de
SUMMARY:Gäste-/und Familien-Fackelwanderung mit dem Verkehrs-und Heimatverein Züschen & der SGV-Abteilung Züschen
DESCRIPTION:Treffen ist um 17:00 Uhr am Haus des Gastes in Züschen. \nFackeln sind käuflich zu erwerben in der Tourist-Info.
URL:https://zueschen.de/veranstaltung/gaeste-und-familien-fackelwanderung-mit-dem-verkehrs-und-heimatverein-zueschen-der-sgv-abteilung-zueschen/
LOCATION:Haus des Gastes\, Nuhnetalstraße 44\, Winterberg\, NRW\, 59955\, Deutschland
ORGANIZER;CN="SGV":MAILTO:vorstand@sgv-zueschen.de
END:VEVENT
END:VCALENDAR